BEGIN:VCALENDAR
VERSION:2.0
PRODID:spatie/icalendar-generator
DESCRIPTION:Events from Greenwell Center for Holistic Health
X-WR-CALDESC:Events from Greenwell Center for Holistic Health
REFRESH-INTERVAL;VALUE=DURATION:PT1440M
X-PUBLISHED-TTL:PT1440M
BEGIN:VTIMEZONE
TZID:America/Halifax
BEGIN:DAYLIGHT
DTSTART:20240310T020000Z
TZOFFSETFROM:-0400
TZOFFSETTO:-0300
END:DAYLIGHT
BEGIN:STANDARD
DTSTART:20241103T020000Z
TZOFFSETFROM:-0300
TZOFFSETTO:-0400
END:STANDARD
BEGIN:DAYLIGHT
DTSTART:20250309T020000Z
TZOFFSETFROM:-0400
TZOFFSETTO:-0300
END:DAYLIGHT
END:VTIMEZONE
BEGIN:VTIMEZONE
TZID:UTC
BEGIN:STANDARD
DTSTART:20250723T211233Z
TZOFFSETFROM:+0000
TZOFFSETTO:+0000
END:STANDARD
END:VTIMEZONE
BEGIN:VEVENT
UID:2879-21
DTSTAMP:20260419T211233Z
SUMMARY:AME for Greatness FREE Healing Session
LOCATION:Online
ORGANIZER;CN=Michelle Greenwell:MAILTO:Michelle@dancedebut.com
DTSTART;TZID=America/Halifax:20241020T140000
DTEND;TZID=America/Halifax:20241020T153000
X-ALT-DESC;FMTTYPE=TEXT/HTML:<p>This introductory session is a chance for y
 ou to get to know us as three amazing facilitators\, with very diverse tra
 ining and experience.  Together we help you to prioritize your self-care\
 ,</p>\n
CATEGORIES:Events,  General,  Health and Wellness
URL;VALUE=URI:https://greenwellcenter.com/mc-events/ame-for-greatness-free-
 healing-session/
METHOD:PUBLISH
END:VEVENT
END:VCALENDAR