BEGIN:VCALENDAR
VERSION:2.0
PRODID:spatie/icalendar-generator
DESCRIPTION:Events from Greenwell Center for Holistic Health
X-WR-CALDESC:Events from Greenwell Center for Holistic Health
REFRESH-INTERVAL;VALUE=DURATION:PT1440M
X-PUBLISHED-TTL:PT1440M
BEGIN:VTIMEZONE
TZID:America/Halifax
BEGIN:DAYLIGHT
DTSTART:20240310T020000Z
TZOFFSETFROM:-0400
TZOFFSETTO:-0300
END:DAYLIGHT
BEGIN:STANDARD
DTSTART:20241103T020000Z
TZOFFSETFROM:-0300
TZOFFSETTO:-0400
END:STANDARD
BEGIN:DAYLIGHT
DTSTART:20250309T020000Z
TZOFFSETFROM:-0400
TZOFFSETTO:-0300
END:DAYLIGHT
END:VTIMEZONE
BEGIN:VTIMEZONE
TZID:UTC
BEGIN:STANDARD
DTSTART:20250723T212746Z
TZOFFSETFROM:+0000
TZOFFSETTO:+0000
END:STANDARD
END:VTIMEZONE
BEGIN:VEVENT
UID:2849-15
DTSTAMP:20260419T212746Z
SUMMARY:The Key to Our Hearts
LOCATION:Hillsborough Glendyre Hall 4738 Route 252  Mabou NS B0E 1X0
ORGANIZER;CN=Michelle Greenwell:MAILTO:Michelle@dancedebut.com
DTSTART;TZID=America/Halifax:20241018T103000
DTEND;TZID=America/Halifax:20241018T120000
X-ALT-DESC;FMTTYPE=TEXT/HTML:<p>Join us for a cup of tea and learn more abo
 ut the traditions of Gaelic Song and Music as we share some of the archive
 d music with a tea theme.  Bradley Murphy\, Mairi Britton\, and Colin MacL
 eod will be singing and playing fiddle and harp for you.</p>\n
CATEGORIES:Events,  Performances
URL;VALUE=URI:https://greenwellcenter.com/mc-events/the-key-to-our-hearts/
METHOD:PUBLISH
END:VEVENT
END:VCALENDAR