BEGIN:VCALENDAR
VERSION:2.0
PRODID:spatie/icalendar-generator
DESCRIPTION:Events from Greenwell Center for Holistic Health
X-WR-CALDESC:Events from Greenwell Center for Holistic Health
REFRESH-INTERVAL;VALUE=DURATION:PT1440M
X-PUBLISHED-TTL:PT1440M
BEGIN:VTIMEZONE
TZID:America/Halifax
BEGIN:STANDARD
DTSTART:20251102T020000Z
TZOFFSETFROM:-0300
TZOFFSETTO:-0400
END:STANDARD
BEGIN:DAYLIGHT
DTSTART:20260308T020000Z
TZOFFSETFROM:-0400
TZOFFSETTO:-0300
END:DAYLIGHT
END:VTIMEZONE
BEGIN:VTIMEZONE
TZID:UTC
BEGIN:STANDARD
DTSTART:20250727T071304Z
TZOFFSETFROM:+0000
TZOFFSETTO:+0000
END:STANDARD
END:VTIMEZONE
BEGIN:VEVENT
UID:4100-33
DTSTAMP:20260423T071304Z
SUMMARY:Hillsborough is online today
LOCATION:
ORGANIZER;CN=Michelle Greenwell:MAILTO:Michelle@dancedebut.com
DTSTART;TZID=America/Halifax;VALUE=DATE:20260105
DTEND;TZID=America/Halifax;VALUE=DATE:20260106
X-ALT-DESC;FMTTYPE=TEXT/HTML:With the weather watch\, we have moved our cla
 sses to online today.  Be well everyone.  Check your inbox for the zoom 
 link and additional information. If you haven't read the blog post about o
 ur focus for 2026\, take a look... https://greenwellcenter.com/reimagining
 -blue-zones-from-traditional-longevity-to-a-quantum-community-centered-fut
 ure-in-cape-breton/
CATEGORIES:Events
URL;VALUE=URI:https://greenwellcenter.com/mc-events/hillsborough-is-online-
 today/
METHOD:PUBLISH
END:VEVENT
END:VCALENDAR