BEGIN:VCALENDAR
VERSION:2.0
PRODID:spatie/icalendar-generator
DESCRIPTION:Events from Greenwell Center for Holistic Health
X-WR-CALDESC:Events from Greenwell Center for Holistic Health
REFRESH-INTERVAL;VALUE=DURATION:PT1440M
X-PUBLISHED-TTL:PT1440M
BEGIN:VTIMEZONE
TZID:America/Halifax
BEGIN:DAYLIGHT
DTSTART:20240310T020000Z
TZOFFSETFROM:-0400
TZOFFSETTO:-0300
END:DAYLIGHT
BEGIN:STANDARD
DTSTART:20241103T020000Z
TZOFFSETFROM:-0300
TZOFFSETTO:-0400
END:STANDARD
BEGIN:DAYLIGHT
DTSTART:20250309T020000Z
TZOFFSETFROM:-0400
TZOFFSETTO:-0300
END:DAYLIGHT
END:VTIMEZONE
BEGIN:VTIMEZONE
TZID:UTC
BEGIN:STANDARD
DTSTART:20250723T211852Z
TZOFFSETFROM:+0000
TZOFFSETTO:+0000
END:STANDARD
END:VTIMEZONE
BEGIN:VEVENT
UID:2870-18
DTSTAMP:20260419T211852Z
SUMMARY:Qi YINtegration: The Energy of Nutrition
LOCATION:Online
ORGANIZER;CN=Michelle Greenwell:MAILTO:Michelle@dancedebut.com
RRULE:FREQ=WEEKLY;UNTIL=20241215T000000Z
DTSTART;TZID=America/Halifax:20241020T160000
DTEND;TZID=America/Halifax:20241020T171500
X-ALT-DESC;FMTTYPE=TEXT/HTML:<p>We know what we were told about eating righ
 t\, but is it true?  Is there another perspective to wellness with nutriti
 on?  Share this unique and informative voyage of discovery about what brin
 gs you energy and vitality.</p>\n
CATEGORIES:Events,  General,  Health and Wellness,  Tai Chi
URL;VALUE=URI:https://greenwellcenter.com/mc-events/qi-yintegration-the-ene
 rgy-of-nutrition/?mc_id=2870
METHOD:PUBLISH
END:VEVENT
END:VCALENDAR