BEGIN:VCALENDAR
VERSION:2.0
PRODID:spatie/icalendar-generator
DESCRIPTION:Events from Greenwell Center for Holistic Health
X-WR-CALDESC:Events from Greenwell Center for Holistic Health
REFRESH-INTERVAL;VALUE=DURATION:PT1440M
X-PUBLISHED-TTL:PT1440M
BEGIN:VTIMEZONE
TZID:America/Halifax
BEGIN:DAYLIGHT
DTSTART:20240310T020000Z
TZOFFSETFROM:-0400
TZOFFSETTO:-0300
END:DAYLIGHT
BEGIN:STANDARD
DTSTART:20241103T020000Z
TZOFFSETFROM:-0300
TZOFFSETTO:-0400
END:STANDARD
BEGIN:DAYLIGHT
DTSTART:20250309T020000Z
TZOFFSETFROM:-0400
TZOFFSETTO:-0300
END:DAYLIGHT
END:VTIMEZONE
BEGIN:VTIMEZONE
TZID:UTC
BEGIN:STANDARD
DTSTART:20250728T014914Z
TZOFFSETFROM:+0000
TZOFFSETTO:+0000
END:STANDARD
END:VTIMEZONE
BEGIN:VEVENT
UID:2862-17
DTSTAMP:20260424T014914Z
SUMMARY:Living Naturally with Michaela and monthly guest\, Dr Michelle Gree
 nwell
LOCATION:Online
ORGANIZER;CN=Michelle Greenwell:MAILTO:Michelle@dancedebut.com
RRULE:FREQ=MONTHLY;BYDAY=1FR;UNTIL=20250607T000000Z
DTSTART;TZID=America/Halifax:20241101T150000
DTEND;TZID=America/Halifax:20241101T154500
X-ALT-DESC;FMTTYPE=TEXT/HTML:<p>Living Naturally is a live event to support
  your wellness journey.  Join us!</p>\n
CATEGORIES:General,  Podcast
URL;VALUE=URI:https://greenwellcenter.com/mc-events/living-naturally-with-m
 ichaela-and-monthly-guest-dr-michelle-greenwell-2/?mc_id=2862
METHOD:PUBLISH
END:VEVENT
END:VCALENDAR