BEGIN:VCALENDAR
VERSION:2.0
PRODID:spatie/icalendar-generator
DESCRIPTION:Events from Greenwell Center for Holistic Health
X-WR-CALDESC:Events from Greenwell Center for Holistic Health
REFRESH-INTERVAL;VALUE=DURATION:PT1440M
X-PUBLISHED-TTL:PT1440M
BEGIN:VTIMEZONE
TZID:America/Halifax
BEGIN:DAYLIGHT
DTSTART:20240310T020000Z
TZOFFSETFROM:-0400
TZOFFSETTO:-0300
END:DAYLIGHT
BEGIN:STANDARD
DTSTART:20241103T020000Z
TZOFFSETFROM:-0300
TZOFFSETTO:-0400
END:STANDARD
BEGIN:DAYLIGHT
DTSTART:20250309T020000Z
TZOFFSETFROM:-0400
TZOFFSETTO:-0300
END:DAYLIGHT
END:VTIMEZONE
BEGIN:VTIMEZONE
TZID:UTC
BEGIN:STANDARD
DTSTART:20250723T223003Z
TZOFFSETFROM:+0000
TZOFFSETTO:+0000
END:STANDARD
END:VTIMEZONE
BEGIN:VEVENT
UID:2848-14
DTSTAMP:20260419T223003Z
SUMMARY:Music of the Landscape
LOCATION:Hillsborough Glendyre Hall 4738 Route 252  Mabou NS B0E 1X0
ORGANIZER;CN=Michelle Greenwell:MAILTO:Michelle@dancedebut.com
DTSTART;TZID=America/Halifax:20241016T140000
DTEND;TZID=America/Halifax:20241016T153000
X-ALT-DESC;FMTTYPE=TEXT/HTML:<p>Enjoy an afternoon of tea and conversation 
 with local artists and musicians as they share their art and music\, weavi
 ng the traditions of Cape Breton Island and the beauty of the island in th
 eir performance.</p>\n
CATEGORIES:Events,  Performances
URL;VALUE=URI:https://greenwellcenter.com/mc-events/music-of-the-landscape/
METHOD:PUBLISH
END:VEVENT
END:VCALENDAR